BEGIN:VCALENDAR
VERSION:2.0
PRODID:-//Reading Symphony Orchestra - ECPv6.15.20//NONSGML v1.0//EN
CALSCALE:GREGORIAN
METHOD:PUBLISH
X-ORIGINAL-URL:https://readingsymphony.org
X-WR-CALDESC:Events for Reading Symphony Orchestra
REFRESH-INTERVAL;VALUE=DURATION:PT1H
X-Robots-Tag:noindex
X-PUBLISHED-TTL:PT1H
BEGIN:VTIMEZONE
TZID:America/New_York
BEGIN:DAYLIGHT
TZOFFSETFROM:-0500
TZOFFSETTO:-0400
TZNAME:EDT
DTSTART:20250309T070000
END:DAYLIGHT
BEGIN:STANDARD
TZOFFSETFROM:-0400
TZOFFSETTO:-0500
TZNAME:EST
DTSTART:20251102T060000
END:STANDARD
BEGIN:DAYLIGHT
TZOFFSETFROM:-0500
TZOFFSETTO:-0400
TZNAME:EDT
DTSTART:20260308T070000
END:DAYLIGHT
BEGIN:STANDARD
TZOFFSETFROM:-0400
TZOFFSETTO:-0500
TZNAME:EST
DTSTART:20261101T060000
END:STANDARD
BEGIN:DAYLIGHT
TZOFFSETFROM:-0500
TZOFFSETTO:-0400
TZNAME:EDT
DTSTART:20270314T070000
END:DAYLIGHT
BEGIN:STANDARD
TZOFFSETFROM:-0400
TZOFFSETTO:-0500
TZNAME:EST
DTSTART:20271107T060000
END:STANDARD
END:VTIMEZONE
BEGIN:VEVENT
DTSTART;TZID=America/New_York:20260314T193000
DTEND;TZID=America/New_York:20260314T193000
DTSTAMP:20260425T100549
CREATED:20250303T103209Z
LAST-MODIFIED:20251028T215228Z
UID:12528-1773516600-1773516600@readingsymphony.org
SUMMARY:Mozart & Haydn "The Clock"
DESCRIPTION:Santander Performing Arts Center\n136 N 6th St\, Reading\, PA 19601\nSaturday\, March 14\, 2026\n7:30 p.m. \nThe elegance of the Classical era comes to life\nDelight in the brilliance and charm of the Classical era with a program that showcases the wit\, grace\, and innovation of two musical masters. Mozart’s radiant Symphony No. 29 and the lyrical Horn Concerto No. 3\, featuring Megan Amos\, highlight his youthful genius and effortless elegance. Haydn’s beloved Symphony No. 101\, “The Clock\,” bursts with playful rhythms\, rich textures\, and the composer’s signature humor. A program of refinement\, joy\, and timeless sophistication. \nWith a special appearance by the RSO’s very own Reading Symphony Orchestra Junior Strings. \n  \nClick or Scan 2025-2026 BRAVO!\n \n  \n\nCheers Bistro at the DoubleTree and FREE Parking\n \nEnjoy modern comfort food in a relaxed urban setting\, along with validated parking\, at Cheers Bistro at the DoubleTree. Whether you’re in the mood for a quick bite or a leisurely meal\, every dining experience will be one to remember!  \nBook Reservations  |  Visit Website  |  Call (484) 577-8633 \n  \n\nListen
URL:https://readingsymphony.org/event/mozart-and-haydn/
LOCATION:Santander Performing Arts Center\, 136 N 6th Street\, Reading\, PA\, 19602\, United States
CATEGORIES:Main Events
ATTACH;FMTTYPE=image/jpeg:https://readingsymphony.org/wp-content/uploads/2025/02/RSO-2526-Web-Mozart-Haydn-700x500-1.jpg
END:VEVENT
BEGIN:VEVENT
DTSTART;TZID=America/New_York:20260418T193000
DTEND;TZID=America/New_York:20260418T193000
DTSTAMP:20260425T100549
CREATED:20250303T103209Z
LAST-MODIFIED:20251028T221001Z
UID:12533-1776540600-1776540600@readingsymphony.org
SUMMARY:Dvořák "New World Symphony"
DESCRIPTION:Santander Performing Arts Center\n136 N 6th St\, Reading\, PA 19601\nSaturday\, April 18\, 2026\n7:30 p.m. \nMajestic Horizons: Tchaikovsky & Dvořák\n \nCelebrate the RSO’s Season Finale with an unforgettable evening of passion\, virtuosity\, and expansive symphonic beauty. Internationally acclaimed violinist Eric Silberger brings electrifying brilliance to Tchaikovsky’s Violin Concerto\, a tour de force of lyricism and fire. \nThe program peaks with Dvořák’s beloved Symphony No. 9\, “From the New World”\, a powerful tribute to American spirit and European tradition\, filled with unforgettable melodies and emotional depth. Finish the 2025-2026 Season with a concert of bold expression and transcendent artistry. \nWith a special side-by-side appearance by the RSO’s very own Reading Symphony Youth Orchestra! \n  \n  \nClick or Scan 2025-2026 BRAVO!\n \n  \n\nCheers Bistro at the DoubleTree and FREE Parking\n \nEnjoy modern comfort food in a relaxed urban setting\, along with validated parking\, at Cheers Bistro at the DoubleTree. Whether you’re in the mood for a quick bite or a leisurely meal\, every dining experience will be one to remember!  \nBook Reservations  |  Visit Website  |  Call (484) 577-8633 \n  \n\nListen\n﻿
URL:https://readingsymphony.org/event/dvorak-symphony-9/
LOCATION:Santander Performing Arts Center\, 136 N 6th Street\, Reading\, PA\, 19602\, United States
CATEGORIES:Main Events
ATTACH;FMTTYPE=image/jpeg:https://readingsymphony.org/wp-content/uploads/2025/03/Eric-Silberger.jpg
END:VEVENT
BEGIN:VEVENT
DTSTART;TZID=America/New_York:20260704T163000
DTEND;TZID=America/New_York:20260704T223000
DTSTAMP:20260425T100549
CREATED:20251216T192455Z
LAST-MODIFIED:20251216T193245Z
UID:13538-1783182600-1783204200@readingsymphony.org
SUMMARY:Star Spangled Spectacular - Celebrating America's 250th Anniversary
DESCRIPTION:
URL:https://readingsymphony.org/event/star-spangled-spectacular-celebrating-americas-250th-anniversary/
LOCATION:The Berks County Fairgrounds\, 1216 Hilltop Road\, Leesport\, PA\, 19533\, United States
CATEGORIES:Main Events
ATTACH;FMTTYPE=image/png:https://readingsymphony.org/wp-content/uploads/2025/12/1625395081772.png
END:VEVENT
END:VCALENDAR