BEGIN:VCALENDAR
VERSION:2.0
PRODID:-//Reading Symphony Orchestra - ECPv6.15.20//NONSGML v1.0//EN
CALSCALE:GREGORIAN
METHOD:PUBLISH
X-WR-CALNAME:Reading Symphony Orchestra
X-ORIGINAL-URL:https://readingsymphony.org
X-WR-CALDESC:Events for Reading Symphony Orchestra
REFRESH-INTERVAL;VALUE=DURATION:PT1H
X-Robots-Tag:noindex
X-PUBLISHED-TTL:PT1H
BEGIN:VTIMEZONE
TZID:America/New_York
BEGIN:DAYLIGHT
TZOFFSETFROM:-0500
TZOFFSETTO:-0400
TZNAME:EDT
DTSTART:20210314T070000
END:DAYLIGHT
BEGIN:STANDARD
TZOFFSETFROM:-0400
TZOFFSETTO:-0500
TZNAME:EST
DTSTART:20211107T060000
END:STANDARD
BEGIN:DAYLIGHT
TZOFFSETFROM:-0500
TZOFFSETTO:-0400
TZNAME:EDT
DTSTART:20220313T070000
END:DAYLIGHT
BEGIN:STANDARD
TZOFFSETFROM:-0400
TZOFFSETTO:-0500
TZNAME:EST
DTSTART:20221106T060000
END:STANDARD
BEGIN:DAYLIGHT
TZOFFSETFROM:-0500
TZOFFSETTO:-0400
TZNAME:EDT
DTSTART:20230312T070000
END:DAYLIGHT
BEGIN:STANDARD
TZOFFSETFROM:-0400
TZOFFSETTO:-0500
TZNAME:EST
DTSTART:20231105T060000
END:STANDARD
BEGIN:DAYLIGHT
TZOFFSETFROM:-0500
TZOFFSETTO:-0400
TZNAME:EDT
DTSTART:20240310T070000
END:DAYLIGHT
BEGIN:STANDARD
TZOFFSETFROM:-0400
TZOFFSETTO:-0500
TZNAME:EST
DTSTART:20241103T060000
END:STANDARD
BEGIN:DAYLIGHT
TZOFFSETFROM:-0500
TZOFFSETTO:-0400
TZNAME:EDT
DTSTART:20250309T070000
END:DAYLIGHT
BEGIN:STANDARD
TZOFFSETFROM:-0400
TZOFFSETTO:-0500
TZNAME:EST
DTSTART:20251102T060000
END:STANDARD
END:VTIMEZONE
BEGIN:VEVENT
DTSTART;TZID=America/New_York:20241207T193000
DTEND;TZID=America/New_York:20241207T193000
DTSTAMP:20260425T124938
CREATED:20240226T134222Z
LAST-MODIFIED:20241116T094926Z
UID:12294-1733599800-1733599800@readingsymphony.org
SUMMARY:Home for the Holidays
DESCRIPTION:Pops 1\nAndrew Constantine\, Conductor \nRing in your holiday celebrations in style with the RSO and our annual seasonal spectacular.
URL:https://readingsymphony.org/event/home-for-the-holidays/
LOCATION:Santander Performing Arts Center\, 136 N 6th Street\, Reading\, PA\, 19602\, United States
CATEGORIES:Main Events
ATTACH;FMTTYPE=image/jpeg:https://readingsymphony.org/wp-content/uploads/2024/02/pops1.jpg
END:VEVENT
BEGIN:VEVENT
DTSTART;TZID=America/New_York:20241116T193000
DTEND;TZID=America/New_York:20241116T193000
DTSTAMP:20260425T124938
CREATED:20240226T133918Z
LAST-MODIFIED:20241116T094917Z
UID:12289-1731785400-1731785400@readingsymphony.org
SUMMARY:Dvořák 7
DESCRIPTION:Classics 2\nAndrew Constantine\, Conductor\nOlivia Staton\, Flute\nHolst – Japanese Suite\nCarl Reinecke – Flute Concerto\nDvořák – Symphony No. 7
URL:https://readingsymphony.org/event/dvorak-7/
LOCATION:Santander Performing Arts Center\, 136 N 6th Street\, Reading\, PA\, 19602\, United States
CATEGORIES:Main Events
ATTACH;FMTTYPE=image/jpeg:https://readingsymphony.org/wp-content/uploads/2024/02/classics2.jpg
END:VEVENT
BEGIN:VEVENT
DTSTART;TZID=America/New_York:20241026T170000
DTEND;TZID=America/New_York:20241026T220000
DTSTAMP:20260425T124938
CREATED:20240830T102159Z
LAST-MODIFIED:20241023T161237Z
UID:12394-1729962000-1729980000@readingsymphony.org
SUMMARY:Masquerade at the Museum
DESCRIPTION:An Evening of Philanthropy and Music honoring the Reading Symphony Orchestra League.\n  \nImmerse yourself in a magical masquerade-themed evening beginning with a lively cocktail hour and museum scavenger hunt.\n  \n\nDinner: Special Occasions by Panevino\nEntertainment: The Flying Ivories\n\nEnjoy a special performance by members of the Reading Symphony Youth Orchestra. \nSilent and live auctions\nBlack Tie Optional \nPlease RSVP by October 16th to secure a spot \nDessert Sponsor
URL:https://readingsymphony.org/event/masquerade-at-the-museum/
LOCATION:Reading Public Museum\, 500 Museum Rd\, Reading\, PA\, 19611\, United States
CATEGORIES:Main Events
ATTACH;FMTTYPE=image/png:https://readingsymphony.org/wp-content/uploads/2024/08/Screenshot-2024-09-24-at-12.47.29 PM.png
END:VEVENT
BEGIN:VEVENT
DTSTART;TZID=America/New_York:20240928T193000
DTEND;TZID=America/New_York:20240928T193000
DTSTAMP:20260425T124938
CREATED:20240226T133651Z
LAST-MODIFIED:20240807T131958Z
UID:12286-1727551800-1727551800@readingsymphony.org
SUMMARY:Brahms 1
DESCRIPTION:Classics 1\nAndrew Constantine\, Conductor\nStewart Goodyear\, Piano\nBeethoven – King Stephen Overture\nRobert Schumann – Piano Concerto\nBrahms – Symphony No. 1
URL:https://readingsymphony.org/event/brahms-1/
LOCATION:Santander Performing Arts Center\, 136 N 6th Street\, Reading\, PA\, 19602\, United States
CATEGORIES:Main Events
ATTACH;FMTTYPE=image/jpeg:https://readingsymphony.org/wp-content/uploads/2024/02/classics1.jpg
END:VEVENT
BEGIN:VEVENT
DTSTART;TZID=America/New_York:20240511T193000
DTEND;TZID=America/New_York:20240511T193000
DTSTAMP:20260425T124938
CREATED:20230524T121956Z
LAST-MODIFIED:20230807T171518Z
UID:11987-1715455800-1715455800@readingsymphony.org
SUMMARY:Symphonie Fantastique
DESCRIPTION:Classics 6.\nAndrew Constantine\, Conductor\nMichelle Cann\, Piano\nChopin – Piano Concerto No. 1\nBerlioz – Symphonie Fantastique \n*Included in Classics Subscription
URL:https://readingsymphony.org/event/symphonie-fantastique/
LOCATION:Santander Performing Arts Center\, 136 N 6th Street\, Reading\, PA\, 19602\, United States
CATEGORIES:Main Events
ATTACH;FMTTYPE=image/jpeg:https://readingsymphony.org/wp-content/uploads/2023/05/Michelle-Cann.jpeg
END:VEVENT
BEGIN:VEVENT
DTSTART;TZID=America/New_York:20240420T193000
DTEND;TZID=America/New_York:20240420T193000
DTSTAMP:20260425T124938
CREATED:20230524T121956Z
LAST-MODIFIED:20240417T100649Z
UID:11995-1713641400-1713641400@readingsymphony.org
SUMMARY:Pops Totally 80's
DESCRIPTION:Pops 3.\nStuart Chafetz\, Guest Conductor\nNicole Parker\, Soprano\nAaron Finley\, Tenor
URL:https://readingsymphony.org/event/pops-totally-80s/
LOCATION:Santander Performing Arts Center\, 136 N 6th Street\, Reading\, PA\, 19602\, United States
CATEGORIES:Main Events
ATTACH;FMTTYPE=image/jpeg:https://readingsymphony.org/wp-content/uploads/2023/02/Totally-80s.jpg
END:VEVENT
BEGIN:VEVENT
DTSTART;TZID=America/New_York:20240323T193000
DTEND;TZID=America/New_York:20240323T193000
DTSTAMP:20260425T124938
CREATED:20230524T121956Z
LAST-MODIFIED:20240308T110418Z
UID:11985-1711222200-1711222200@readingsymphony.org
SUMMARY:Beethoven's "Pastoral"
DESCRIPTION:Classics 5.\nAndrew Constantine\, Conductor\nJennifer Koh\, Violin\nBarber – Essay No. 1 for Orchestra\nSibelius – Violin Concerto\nBeethoven – Symphony 6\, “Pastoral” \n*Included in Classics Subscription \nProgram Notes – Essay No. 1 for Orchestra\nProgram Notes – Symphony No. 6 in F Major\, Op. 68\, “Pastoral”\nProgram Notes – Violin Concerto in D Minor\, Op. 47
URL:https://readingsymphony.org/event/beethovens-pastoral/
LOCATION:Santander Performing Arts Center\, 136 N 6th Street\, Reading\, PA\, 19602\, United States
CATEGORIES:Main Events
ATTACH;FMTTYPE=image/jpeg:https://readingsymphony.org/wp-content/uploads/2023/05/Jennifer-Koh.jpg
END:VEVENT
BEGIN:VEVENT
DTSTART;TZID=America/New_York:20240224T193000
DTEND;TZID=America/New_York:20240224T193000
DTSTAMP:20260425T124938
CREATED:20230524T121957Z
LAST-MODIFIED:20240213T180910Z
UID:11983-1708803000-1708803000@readingsymphony.org
SUMMARY:Rodrigo's Romantic Concerto
DESCRIPTION:Classics 4.\nAndrew Constantine\, Conductor\nAna Vidovic\, Guitar\nClarice Assad – Impressions for Strings\nRodrigo – Concierto de Aranjuez\nMendelssohn – Scottish Symphony \n*Included in Classics Subscription \nProgram Notes – Concierto de Aranjuez for Guitar and Orchestra \nProgram Notes – Symphony No. 3 in A Minor\, Op. 56 \nProgram Notes – Impressions\, Suite for Chamber Orchestra
URL:https://readingsymphony.org/event/rodrigos-romantic-concerto/
LOCATION:Santander Performing Arts Center\, 136 N 6th Street\, Reading\, PA\, 19602\, United States
CATEGORIES:Main Events
ATTACH;FMTTYPE=image/jpeg:https://readingsymphony.org/wp-content/uploads/2023/05/Ana-Vidovic.jpg
END:VEVENT
BEGIN:VEVENT
DTSTART;TZID=America/New_York:20240127T193000
DTEND;TZID=America/New_York:20240127T193000
DTSTAMP:20260425T124938
CREATED:20230524T121957Z
LAST-MODIFIED:20240118T141523Z
UID:11981-1706383800-1706383800@readingsymphony.org
SUMMARY:Enigma Variations
DESCRIPTION:Classics 3.\nAndrew Constantine\, Conductor\nHolly Mulcahy\, Violin\nColeridge-Taylor – Petite Suite de Concert\nGeorge S. Clinton – The Rose of Sonora\nElgar – Enigma Variations \n*Included in Classics Subscription \nProgram Notes – Enigma Variations: The Rose of Sonora \nProgram Notes – Enigma Variations: Petite Suite de Concert\, op. 77 \nProgram Notes – Enigma Variations: Variations on an Original Theme (Enigma)
URL:https://readingsymphony.org/event/enigma-variations/
LOCATION:Santander Performing Arts Center\, 136 N 6th Street\, Reading\, PA\, 19602\, United States
CATEGORIES:Main Events
ATTACH;FMTTYPE=image/jpeg:https://readingsymphony.org/wp-content/uploads/2023/05/Holly-Mulcahy.jpg
END:VEVENT
BEGIN:VEVENT
DTSTART;TZID=America/New_York:20231231T193000
DTEND;TZID=America/New_York:20231231T193000
DTSTAMP:20260425T124938
CREATED:20230524T121957Z
LAST-MODIFIED:20230807T171826Z
UID:11993-1704051000-1704051000@readingsymphony.org
SUMMARY:Classical Mystery Tour: A Tribute to the Beatles with the Reading Symphony Orchestra
DESCRIPTION:Pops 2.\nAndrew Constantine\, Conductor
URL:https://readingsymphony.org/event/pops-classical-mystery-tour/
LOCATION:Santander Performing Arts Center\, 136 N 6th Street\, Reading\, PA\, 19602\, United States
CATEGORIES:Main Events
ATTACH;FMTTYPE=image/jpeg:https://readingsymphony.org/wp-content/uploads/2023/02/CMT-Group-2.jpg
END:VEVENT
BEGIN:VEVENT
DTSTART;TZID=America/New_York:20231209T193000
DTEND;TZID=America/New_York:20231209T193000
DTSTAMP:20260425T124938
CREATED:20230524T121957Z
LAST-MODIFIED:20231121T112153Z
UID:11990-1702150200-1702150200@readingsymphony.org
SUMMARY:Pops Home For The Holidays
DESCRIPTION:Pops 1.\nAndrew Constantine\, Conductor\nSpecial Guests\, Timothy McDevitt and the Boyertown Area Senior High School Select Choir\nJoin us for a new holiday season tradition with the RSO
URL:https://readingsymphony.org/event/pops-home-for-the-holidays/
LOCATION:Santander Performing Arts Center\, 136 N 6th Street\, Reading\, PA\, 19602\, United States
CATEGORIES:Main Events
ATTACH;FMTTYPE=image/jpeg:https://readingsymphony.org/wp-content/uploads/2023/05/image2.jpg
END:VEVENT
BEGIN:VEVENT
DTSTART;TZID=America/New_York:20231104T193000
DTEND;TZID=America/New_York:20231104T193000
DTSTAMP:20260425T124938
CREATED:20230524T121958Z
LAST-MODIFIED:20231024T103757Z
UID:11979-1699126200-1699126200@readingsymphony.org
SUMMARY:Romeo and Juliet
DESCRIPTION:Classics 2.\nAndrew Constantine\, Conductor\nTommy Mesa\, Cello\nDvořák – Cello Concerto\nProkofiev – Romeo and Juliet \n*Included in Classics Subscription \nProgram Notes\, Click here
URL:https://readingsymphony.org/event/romeo-and-juliet/
LOCATION:Santander Performing Arts Center\, 136 N 6th Street\, Reading\, PA\, 19602\, United States
CATEGORIES:Main Events
ATTACH;FMTTYPE=image/jpeg:https://readingsymphony.org/wp-content/uploads/2023/02/Thomas-Mesa-Cuban-American-cellist-ENH-1.jpg
END:VEVENT
BEGIN:VEVENT
DTSTART;TZID=America/New_York:20230923T193000
DTEND;TZID=America/New_York:20230923T193000
DTSTAMP:20260425T124938
CREATED:20230524T121958Z
LAST-MODIFIED:20230912T144044Z
UID:11977-1695497400-1695497400@readingsymphony.org
SUMMARY:Rachmaninoff & Tchaikovsky
DESCRIPTION:Classics 1.\nAndrew Constantine\, Conductor\nGarrick Ohlsson\, Piano\nRachmaninoff – Piano Concerto No. 3\nTchaikovsky – Symphony No. 4 \n*Included in Classics Subscription \nProgram Notes\, click here.
URL:https://readingsymphony.org/event/rachmaninoff-tchaikovsky/
LOCATION:Santander Performing Arts Center\, 136 N 6th Street\, Reading\, PA\, 19602\, United States
CATEGORIES:Main Events
ATTACH;FMTTYPE=image/jpeg:https://readingsymphony.org/wp-content/uploads/2023/05/Garrick-Ohlsson.jpg
END:VEVENT
BEGIN:VEVENT
DTSTART;TZID=America/New_York:20230923T163000
DTEND;TZID=America/New_York:20230923T163000
DTSTAMP:20260425T124938
CREATED:20230829T102059Z
LAST-MODIFIED:20230905T105556Z
UID:12175-1695486600-1695486600@readingsymphony.org
SUMMARY:Opening Night Celebration & Concert
DESCRIPTION:Join us to give a standing ovation to the Reading Symphony Orchestra League!  \n\nCocktails and dinner at the Doubletree by Hilton Reading.\nTransportation provided to and from the Reading Symphony Orchestra’s season opening concert – Rachmaninoff & Tchaikovsky featuring world renowned pianist\, Garrick Ohlsson.\nEvent begins at 4:30pm.\nTicket prices are $200 for the celebration dinner and concert and $150 for dinner only.\n\n Purchase tickets by September 12\, 2023 by calling the RSO office at 610.373.7557.
URL:https://readingsymphony.org/event/opening-night-celebration-concert/
LOCATION:DoubleTree by Hilton Reading\, 701 Penn St\, Reading\, PA\, 19601\, United States
ATTACH;FMTTYPE=image/jpeg:https://readingsymphony.org/wp-content/uploads/2023/08/RSO-2022-Gala-61-scaled.jpg
END:VEVENT
BEGIN:VEVENT
DTSTART;TZID=America/New_York:20230520T193000
DTEND;TZID=America/New_York:20230520T193000
DTSTAMP:20260425T124938
CREATED:20220519T152931Z
LAST-MODIFIED:20230321T164222Z
UID:10029-1684611000-1684611000@readingsymphony.org
SUMMARY:Three Cornered Hat
DESCRIPTION:Andrew Constantine\, Conductor\nJP Jofre\, Bandoneon\nEric Wyrick\, Violin \nGinastera – Estancia\, Four Dances\nPiazzolla – Bandoneon Concerto\nJP Jofre – Concerto for Bandoneon and Violin\ndeFalla – Three Cornered Hat\, Suite No. 2
URL:https://readingsymphony.org/event/three-cornered-hat/
LOCATION:Santander Performing Arts Center\, 136 N 6th Street\, Reading\, PA\, 19602\, United States
CATEGORIES:Main Events
ATTACH;FMTTYPE=image/jpeg:https://readingsymphony.org/wp-content/uploads/2022/05/Three-Cornered-Hat.jpg
END:VEVENT
BEGIN:VEVENT
DTSTART;TZID=America/New_York:20230507T160000
DTEND;TZID=America/New_York:20230507T160000
DTSTAMP:20260425T124938
CREATED:20220712T182849Z
LAST-MODIFIED:20220718T131445Z
UID:11162-1683475200-1683475200@readingsymphony.org
SUMMARY:Spring Concert (RSYO and RSJSO)
DESCRIPTION:Reading Symphony Youth Orchestra and Reading Symphony Junior Symphony Orchestra
URL:https://readingsymphony.org/event/spring-concert-rsyo-and-rsjso/
LOCATION:Schaeffer Auditorium at Kutztown University\, 15229 Kutztown Rd\, Kutztown\, PA\, 19530\, United States
CATEGORIES:Main Events
ATTACH;FMTTYPE=image/jpeg:https://readingsymphony.org/wp-content/uploads/2022/07/DSC_3250.jpg
END:VEVENT
BEGIN:VEVENT
DTSTART;TZID=America/New_York:20230429T193000
DTEND;TZID=America/New_York:20230429T193000
DTSTAMP:20260425T124938
CREATED:20220519T153848Z
LAST-MODIFIED:20230403T112308Z
UID:10035-1682796600-1682796600@readingsymphony.org
SUMMARY:Classic Broadway
DESCRIPTION:Andrew Constantine\, Conductor \nDoug LaBrecque thrilled theatre audiences as The Phantom and Raoul in the Harold Prince production of The Phantom of the Opera. In addition\, Mr. LaBrecque has starred on Broadway as Ravenal in the Hal Prince revival of ShowBoat\, a role he also per- formed in Toronto and Chicago. He was featured in Oscar Hammerstein’s 100th Birthday Celebration Something Wonderful on Broadway at The Gershwin Theatre\, and toured nationally with Les Miserables. Regionally\, Mr. LaBrecque has performed leading roles in Candide\, A Chorus Line\, and Man of LaMancha among many others. A graduate of University of Michigan he was also featured in the world premiere of A Wonderful Life\, written by Sheldon Harnick and Joe Raposo\, and starred in the premiere revival of Kurt Weill and Alan Jay Lerner’s Love Life. \nLisa Vroman starred for several years on Broadway as Christine Daaé in The Phantom of the Opera. As Christine\, she garnered Theatre Critics’ awards for the role in a record breaking run in San Francisco and did a return engagement at the Ahmanson Theatre in Los Angeles. Ms. Vroman starred as Rosabella in The Most Happy Fella\, making her New York City Opera debut with Paul Sorvino playing the title role. She played the role of Charlotte in A Little Night Music with Michigan Opera Theatre\, starring Leslie Uggams and Ron Raines. Lisa sang the role of Birdie in Regina with Utah Opera\, conducted by Keith Lockhart; made her New Jersey Opera debut as Rosalinda in Die Fledermaus (directed by Ira Siff); and premiered and recorded two Comic Operas by composers John Musto (Bastianello) and William Bolcom (Lucrezia) with the New York Festival of Song. Lisa lives in Pasadena\, CA with husband Patrick O’Neil and their beautiful dog Barber.
URL:https://readingsymphony.org/event/classic-broadway/
LOCATION:Santander Performing Arts Center\, 136 N 6th Street\, Reading\, PA\, 19602\, United States
CATEGORIES:Main Events
ATTACH;FMTTYPE=image/jpeg:https://readingsymphony.org/wp-content/uploads/2022/05/Classic-Broadway.jpg
END:VEVENT
BEGIN:VEVENT
DTSTART;TZID=America/New_York:20230401T193000
DTEND;TZID=America/New_York:20230401T193000
DTSTAMP:20260425T124938
CREATED:20220519T152624Z
LAST-MODIFIED:20230321T164257Z
UID:10025-1680377400-1680377400@readingsymphony.org
SUMMARY:A London Symphony
DESCRIPTION:Andrew Constantine\, Conductor\nZlatomir Fung\, Cello \nNielsen – Maskarade Overture\nLalo – Cello Concerto\nVaughan Williams – A London Symphony
URL:https://readingsymphony.org/event/a-london-symphony/
LOCATION:Santander Performing Arts Center\, 136 N 6th Street\, Reading\, PA\, 19602\, United States
CATEGORIES:Main Events
ATTACH;FMTTYPE=image/jpeg:https://readingsymphony.org/wp-content/uploads/2022/05/A-London-symphony.jpg
END:VEVENT
BEGIN:VEVENT
DTSTART;TZID=America/New_York:20230304T193000
DTEND;TZID=America/New_York:20230304T193000
DTSTAMP:20260425T124938
CREATED:20220519T152432Z
LAST-MODIFIED:20220926T164813Z
UID:10022-1677958200-1677958200@readingsymphony.org
SUMMARY:Brahms - Symphony No. 4
DESCRIPTION:Andrew Constantine\, Conductor\nTerrence Wilson – Piano \nAnna Clyne – This Midnight Hour\nRavel – Piano Concerto in G\nBrahms – Symphony No. 4
URL:https://readingsymphony.org/event/brahms-symphony-no-4/
LOCATION:Santander Performing Arts Center\, 136 N 6th Street\, Reading\, PA\, 19602\, United States
CATEGORIES:Main Events
ATTACH;FMTTYPE=image/jpeg:https://readingsymphony.org/wp-content/uploads/2022/05/Brahms.jpg
END:VEVENT
BEGIN:VEVENT
DTSTART;TZID=America/New_York:20230121T193000
DTEND;TZID=America/New_York:20230121T193000
DTSTAMP:20260425T124938
CREATED:20220519T152149Z
LAST-MODIFIED:20220926T164715Z
UID:10019-1674329400-1674329400@readingsymphony.org
SUMMARY:Vivaldi - The Four Seasons
DESCRIPTION:Andrew Constantine\, Conductor\nKeila Wakao\, Violin \nMozart – Symphony No. 40\nVivaldi – The Four Seasons
URL:https://readingsymphony.org/event/vivaldi-the-four-seasons/
LOCATION:Santander Performing Arts Center\, 136 N 6th Street\, Reading\, PA\, 19602\, United States
CATEGORIES:Main Events
ATTACH;FMTTYPE=image/jpeg:https://readingsymphony.org/wp-content/uploads/2022/05/Vivaldi-The-Four-Seasons.jpg
END:VEVENT
BEGIN:VEVENT
DTSTART;TZID=America/New_York:20221231T193000
DTEND;TZID=America/New_York:20221231T193000
DTSTAMP:20260425T124938
CREATED:20220519T153323Z
LAST-MODIFIED:20220926T163503Z
UID:10032-1672515000-1672515000@readingsymphony.org
SUMMARY:The 10 piece group ARRIVAL From Sweden in the production THE MUSIC OF ABBA
DESCRIPTION:with the Reading Symphony Orchestra\n[New Year’s Eve Special!] \nAndrew Constantine\, Conductor
URL:https://readingsymphony.org/event/the-music-of-abba/
LOCATION:Santander Performing Arts Center\, 136 N 6th Street\, Reading\, PA\, 19602\, United States
CATEGORIES:Main Events
ATTACH;FMTTYPE=image/jpeg:https://readingsymphony.org/wp-content/uploads/2022/05/The-Music-Of-Abba.jpg
END:VEVENT
BEGIN:VEVENT
DTSTART;TZID=America/New_York:20221211T160000
DTEND;TZID=America/New_York:20221211T160000
DTSTAMP:20260425T124938
CREATED:20220712T182619Z
LAST-MODIFIED:20221205T133734Z
UID:11159-1670774400-1670774400@readingsymphony.org
SUMMARY:Winter Concert (RSYO and RSJSO)
DESCRIPTION:Reading Symphony Youth Orchestra and Reading Symphony Junior Strings Orchestra
URL:https://readingsymphony.org/event/winter-concert-rsyo-and-rsjso/
LOCATION:Governor Mifflin High School\, 101 S Waverly St\, Shillington\, 19607
CATEGORIES:Main Events
ATTACH;FMTTYPE=image/jpeg:https://readingsymphony.org/wp-content/uploads/2022/07/DSC_3250.jpg
END:VEVENT
BEGIN:VEVENT
DTSTART;TZID=America/New_York:20221105T193000
DTEND;TZID=America/New_York:20221105T193000
DTSTAMP:20260425T124938
CREATED:20220519T151847Z
LAST-MODIFIED:20221020T101503Z
UID:10016-1667676600-1667676600@readingsymphony.org
SUMMARY:Holst - The Planets
DESCRIPTION:Andrew Constantine\, Conductor\nLisa Pegher\, Percussion \nRossini – La Gazza Ladra Overture\nJoseph Schwantner – Concerto for Percussion\nHolst – The Planets \n  \nLisa Pegher \nLisa Pegher is an American solo percussionist and drummer. In her International career she has performed throughout the world as a soloist\, recitalist\, and chamber musician. She is known for pioneering percussion as a solo instrument within the orchestral realm and beyond\, making it her life’s work to present percussion to larger audiences by commissioning\, collaborating\, and creating new works and performances that bring percussion to the front of the stage. \nGustav Holst: The Planets\nThe Planets\, composed between 1914 and 1916\, is a suite of seven movements. Holst’s starting point for the music was the astrological character of each planet\, though his interest in astrology went no deeper than its musical suggestiveness. His daughter wrote that once the underlying idea had been formulated ‘he let the music have its way with him’. There was\, therefore\, no programme for the suite\, and the composer himself pointed out that it has no connection with the deities of classical mythology. The many clues to the meaning of the music are the subjects of the individual movements. (Read More)
URL:https://readingsymphony.org/event/holst-the-planets/
LOCATION:Santander Performing Arts Center\, 136 N 6th Street\, Reading\, PA\, 19602\, United States
CATEGORIES:Main Events
ATTACH;FMTTYPE=image/jpeg:https://readingsymphony.org/wp-content/uploads/2022/05/Holst-The-Planets.jpg
END:VEVENT
BEGIN:VEVENT
DTSTART;TZID=America/New_York:20220924T193000
DTEND;TZID=America/New_York:20220924T193000
DTSTAMP:20260425T124938
CREATED:20220519T151433Z
LAST-MODIFIED:20221020T101427Z
UID:10012-1664047800-1664047800@readingsymphony.org
SUMMARY:Tchaikovsky - Piano Concerto No. 1
DESCRIPTION:Opening Night! \nAndrew Constantine\, Conductor\nJon Kimura Parker\, Piano \nVerdi – La Forza del Destino Overture\nTchaikovsky – Piano Concerto No. 1\nBeethoven – Symphony No. 7
URL:https://readingsymphony.org/event/tchaikovsky-piano-concert-n0-1/
LOCATION:Santander Performing Arts Center\, 136 N 6th Street\, Reading\, PA\, 19602\, United States
CATEGORIES:Main Events
ATTACH;FMTTYPE=image/jpeg:https://readingsymphony.org/wp-content/uploads/2022/05/Tchaikovsky.jpg
END:VEVENT
BEGIN:VEVENT
DTSTART;TZID=America/New_York:20220924T163000
DTEND;TZID=America/New_York:20220924T163000
DTSTAMP:20260425T124938
CREATED:20220705T174327Z
LAST-MODIFIED:20220907T124526Z
UID:10931-1664037000-1664037000@readingsymphony.org
SUMMARY:RSO Gala 2022
DESCRIPTION:Join us on September 24\, 2022\, as the Reading Symphony Orchestra celebrates three of Berks County’s most influential arts leaders\, Thomas & Louise Souders\, and Penelope Proserpi. Event begins at 4:30 p.m. \nCocktails and dinner at the Doubletree by Hilton\, Reading\nTransportation to and from the Reading Symphony Orchestra’s gala opening concert featuring world renowned pianist\, Jon Kimura Parker. \nChampagne and dessert following the concert. \n** Call RSO office for Tickets**
URL:https://readingsymphony.org/event/reading-symphony-gala-2022/
LOCATION:DoubleTree by Hilton Reading\, 701 Penn St\, Reading\, PA\, 19601\, United States
ATTACH;FMTTYPE=image/jpeg:https://readingsymphony.org/wp-content/uploads/2022/07/dining.jpg
END:VEVENT
END:VCALENDAR