BEGIN:VCALENDAR
VERSION:2.0
PRODID:-//Reading Symphony Orchestra - ECPv6.15.20//NONSGML v1.0//EN
CALSCALE:GREGORIAN
METHOD:PUBLISH
X-WR-CALNAME:Reading Symphony Orchestra
X-ORIGINAL-URL:https://readingsymphony.org
X-WR-CALDESC:Events for Reading Symphony Orchestra
REFRESH-INTERVAL;VALUE=DURATION:PT1H
X-Robots-Tag:noindex
X-PUBLISHED-TTL:PT1H
BEGIN:VTIMEZONE
TZID:America/New_York
BEGIN:DAYLIGHT
TZOFFSETFROM:-0500
TZOFFSETTO:-0400
TZNAME:EDT
DTSTART:20210314T070000
END:DAYLIGHT
BEGIN:STANDARD
TZOFFSETFROM:-0400
TZOFFSETTO:-0500
TZNAME:EST
DTSTART:20211107T060000
END:STANDARD
BEGIN:DAYLIGHT
TZOFFSETFROM:-0500
TZOFFSETTO:-0400
TZNAME:EDT
DTSTART:20220313T070000
END:DAYLIGHT
BEGIN:STANDARD
TZOFFSETFROM:-0400
TZOFFSETTO:-0500
TZNAME:EST
DTSTART:20221106T060000
END:STANDARD
BEGIN:DAYLIGHT
TZOFFSETFROM:-0500
TZOFFSETTO:-0400
TZNAME:EDT
DTSTART:20230312T070000
END:DAYLIGHT
BEGIN:STANDARD
TZOFFSETFROM:-0400
TZOFFSETTO:-0500
TZNAME:EST
DTSTART:20231105T060000
END:STANDARD
BEGIN:DAYLIGHT
TZOFFSETFROM:-0500
TZOFFSETTO:-0400
TZNAME:EDT
DTSTART:20240310T070000
END:DAYLIGHT
BEGIN:STANDARD
TZOFFSETFROM:-0400
TZOFFSETTO:-0500
TZNAME:EST
DTSTART:20241103T060000
END:STANDARD
END:VTIMEZONE
BEGIN:VEVENT
DTSTART;TZID=America/New_York:20230121T193000
DTEND;TZID=America/New_York:20230121T193000
DTSTAMP:20260425T234528
CREATED:20220519T152149Z
LAST-MODIFIED:20220926T164715Z
UID:10019-1674329400-1674329400@readingsymphony.org
SUMMARY:Vivaldi - The Four Seasons
DESCRIPTION:Andrew Constantine\, Conductor\nKeila Wakao\, Violin \nMozart – Symphony No. 40\nVivaldi – The Four Seasons
URL:https://readingsymphony.org/event/vivaldi-the-four-seasons/
LOCATION:Santander Performing Arts Center\, 136 N 6th Street\, Reading\, PA\, 19602\, United States
CATEGORIES:Main Events
ATTACH;FMTTYPE=image/jpeg:https://readingsymphony.org/wp-content/uploads/2022/05/Vivaldi-The-Four-Seasons.jpg
END:VEVENT
BEGIN:VEVENT
DTSTART;TZID=America/New_York:20221231T193000
DTEND;TZID=America/New_York:20221231T193000
DTSTAMP:20260425T234528
CREATED:20220519T153323Z
LAST-MODIFIED:20220926T163503Z
UID:10032-1672515000-1672515000@readingsymphony.org
SUMMARY:The 10 piece group ARRIVAL From Sweden in the production THE MUSIC OF ABBA
DESCRIPTION:with the Reading Symphony Orchestra\n[New Year’s Eve Special!] \nAndrew Constantine\, Conductor
URL:https://readingsymphony.org/event/the-music-of-abba/
LOCATION:Santander Performing Arts Center\, 136 N 6th Street\, Reading\, PA\, 19602\, United States
CATEGORIES:Main Events
ATTACH;FMTTYPE=image/jpeg:https://readingsymphony.org/wp-content/uploads/2022/05/The-Music-Of-Abba.jpg
END:VEVENT
BEGIN:VEVENT
DTSTART;TZID=America/New_York:20221211T160000
DTEND;TZID=America/New_York:20221211T160000
DTSTAMP:20260425T234528
CREATED:20220712T182619Z
LAST-MODIFIED:20221205T133734Z
UID:11159-1670774400-1670774400@readingsymphony.org
SUMMARY:Winter Concert (RSYO and RSJSO)
DESCRIPTION:Reading Symphony Youth Orchestra and Reading Symphony Junior Strings Orchestra
URL:https://readingsymphony.org/event/winter-concert-rsyo-and-rsjso/
LOCATION:Governor Mifflin High School\, 101 S Waverly St\, Shillington\, 19607
CATEGORIES:Main Events
ATTACH;FMTTYPE=image/jpeg:https://readingsymphony.org/wp-content/uploads/2022/07/DSC_3250.jpg
END:VEVENT
BEGIN:VEVENT
DTSTART;TZID=America/New_York:20221105T193000
DTEND;TZID=America/New_York:20221105T193000
DTSTAMP:20260425T234528
CREATED:20220519T151847Z
LAST-MODIFIED:20221020T101503Z
UID:10016-1667676600-1667676600@readingsymphony.org
SUMMARY:Holst - The Planets
DESCRIPTION:Andrew Constantine\, Conductor\nLisa Pegher\, Percussion \nRossini – La Gazza Ladra Overture\nJoseph Schwantner – Concerto for Percussion\nHolst – The Planets \n  \nLisa Pegher \nLisa Pegher is an American solo percussionist and drummer. In her International career she has performed throughout the world as a soloist\, recitalist\, and chamber musician. She is known for pioneering percussion as a solo instrument within the orchestral realm and beyond\, making it her life’s work to present percussion to larger audiences by commissioning\, collaborating\, and creating new works and performances that bring percussion to the front of the stage. \nGustav Holst: The Planets\nThe Planets\, composed between 1914 and 1916\, is a suite of seven movements. Holst’s starting point for the music was the astrological character of each planet\, though his interest in astrology went no deeper than its musical suggestiveness. His daughter wrote that once the underlying idea had been formulated ‘he let the music have its way with him’. There was\, therefore\, no programme for the suite\, and the composer himself pointed out that it has no connection with the deities of classical mythology. The many clues to the meaning of the music are the subjects of the individual movements. (Read More)
URL:https://readingsymphony.org/event/holst-the-planets/
LOCATION:Santander Performing Arts Center\, 136 N 6th Street\, Reading\, PA\, 19602\, United States
CATEGORIES:Main Events
ATTACH;FMTTYPE=image/jpeg:https://readingsymphony.org/wp-content/uploads/2022/05/Holst-The-Planets.jpg
END:VEVENT
BEGIN:VEVENT
DTSTART;TZID=America/New_York:20220924T193000
DTEND;TZID=America/New_York:20220924T193000
DTSTAMP:20260425T234528
CREATED:20220519T151433Z
LAST-MODIFIED:20221020T101427Z
UID:10012-1664047800-1664047800@readingsymphony.org
SUMMARY:Tchaikovsky - Piano Concerto No. 1
DESCRIPTION:Opening Night! \nAndrew Constantine\, Conductor\nJon Kimura Parker\, Piano \nVerdi – La Forza del Destino Overture\nTchaikovsky – Piano Concerto No. 1\nBeethoven – Symphony No. 7
URL:https://readingsymphony.org/event/tchaikovsky-piano-concert-n0-1/
LOCATION:Santander Performing Arts Center\, 136 N 6th Street\, Reading\, PA\, 19602\, United States
CATEGORIES:Main Events
ATTACH;FMTTYPE=image/jpeg:https://readingsymphony.org/wp-content/uploads/2022/05/Tchaikovsky.jpg
END:VEVENT
BEGIN:VEVENT
DTSTART;TZID=America/New_York:20220924T163000
DTEND;TZID=America/New_York:20220924T163000
DTSTAMP:20260425T234528
CREATED:20220705T174327Z
LAST-MODIFIED:20220907T124526Z
UID:10931-1664037000-1664037000@readingsymphony.org
SUMMARY:RSO Gala 2022
DESCRIPTION:Join us on September 24\, 2022\, as the Reading Symphony Orchestra celebrates three of Berks County’s most influential arts leaders\, Thomas & Louise Souders\, and Penelope Proserpi. Event begins at 4:30 p.m. \nCocktails and dinner at the Doubletree by Hilton\, Reading\nTransportation to and from the Reading Symphony Orchestra’s gala opening concert featuring world renowned pianist\, Jon Kimura Parker. \nChampagne and dessert following the concert. \n** Call RSO office for Tickets**
URL:https://readingsymphony.org/event/reading-symphony-gala-2022/
LOCATION:DoubleTree by Hilton Reading\, 701 Penn St\, Reading\, PA\, 19601\, United States
ATTACH;FMTTYPE=image/jpeg:https://readingsymphony.org/wp-content/uploads/2022/07/dining.jpg
END:VEVENT
END:VCALENDAR