BEGIN:VCALENDAR
VERSION:2.0
PRODID:-//Reading Symphony Orchestra - ECPv6.15.20//NONSGML v1.0//EN
CALSCALE:GREGORIAN
METHOD:PUBLISH
X-WR-CALNAME:Reading Symphony Orchestra
X-ORIGINAL-URL:https://readingsymphony.org
X-WR-CALDESC:Events for Reading Symphony Orchestra
REFRESH-INTERVAL;VALUE=DURATION:PT1H
X-Robots-Tag:noindex
X-PUBLISHED-TTL:PT1H
BEGIN:VTIMEZONE
TZID:America/New_York
BEGIN:DAYLIGHT
TZOFFSETFROM:-0500
TZOFFSETTO:-0400
TZNAME:EDT
DTSTART:20210314T070000
END:DAYLIGHT
BEGIN:STANDARD
TZOFFSETFROM:-0400
TZOFFSETTO:-0500
TZNAME:EST
DTSTART:20211107T060000
END:STANDARD
BEGIN:DAYLIGHT
TZOFFSETFROM:-0500
TZOFFSETTO:-0400
TZNAME:EDT
DTSTART:20220313T070000
END:DAYLIGHT
BEGIN:STANDARD
TZOFFSETFROM:-0400
TZOFFSETTO:-0500
TZNAME:EST
DTSTART:20221106T060000
END:STANDARD
BEGIN:DAYLIGHT
TZOFFSETFROM:-0500
TZOFFSETTO:-0400
TZNAME:EDT
DTSTART:20230312T070000
END:DAYLIGHT
BEGIN:STANDARD
TZOFFSETFROM:-0400
TZOFFSETTO:-0500
TZNAME:EST
DTSTART:20231105T060000
END:STANDARD
END:VTIMEZONE
BEGIN:VEVENT
DTSTART;TZID=America/New_York:20220924T163000
DTEND;TZID=America/New_York:20220924T163000
DTSTAMP:20260425T161147
CREATED:20220705T174327Z
LAST-MODIFIED:20220907T124526Z
UID:10931-1664037000-1664037000@readingsymphony.org
SUMMARY:RSO Gala 2022
DESCRIPTION:Join us on September 24\, 2022\, as the Reading Symphony Orchestra celebrates three of Berks County’s most influential arts leaders\, Thomas & Louise Souders\, and Penelope Proserpi. Event begins at 4:30 p.m. \nCocktails and dinner at the Doubletree by Hilton\, Reading\nTransportation to and from the Reading Symphony Orchestra’s gala opening concert featuring world renowned pianist\, Jon Kimura Parker. \nChampagne and dessert following the concert. \n** Call RSO office for Tickets**
URL:https://readingsymphony.org/event/reading-symphony-gala-2022/
LOCATION:DoubleTree by Hilton Reading\, 701 Penn St\, Reading\, PA\, 19601\, United States
ATTACH;FMTTYPE=image/jpeg:https://readingsymphony.org/wp-content/uploads/2022/07/dining.jpg
END:VEVENT
END:VCALENDAR