BEGIN:VCALENDAR
VERSION:2.0
PRODID:-//Reading Symphony Orchestra - ECPv6.15.20//NONSGML v1.0//EN
CALSCALE:GREGORIAN
METHOD:PUBLISH
X-ORIGINAL-URL:https://readingsymphony.org
X-WR-CALDESC:Events for Reading Symphony Orchestra
REFRESH-INTERVAL;VALUE=DURATION:PT1H
X-Robots-Tag:noindex
X-PUBLISHED-TTL:PT1H
BEGIN:VTIMEZONE
TZID:America/New_York
BEGIN:DAYLIGHT
TZOFFSETFROM:-0500
TZOFFSETTO:-0400
TZNAME:EDT
DTSTART:20240310T070000
END:DAYLIGHT
BEGIN:STANDARD
TZOFFSETFROM:-0400
TZOFFSETTO:-0500
TZNAME:EST
DTSTART:20241103T060000
END:STANDARD
BEGIN:DAYLIGHT
TZOFFSETFROM:-0500
TZOFFSETTO:-0400
TZNAME:EDT
DTSTART:20250309T070000
END:DAYLIGHT
BEGIN:STANDARD
TZOFFSETFROM:-0400
TZOFFSETTO:-0500
TZNAME:EST
DTSTART:20251102T060000
END:STANDARD
BEGIN:DAYLIGHT
TZOFFSETFROM:-0500
TZOFFSETTO:-0400
TZNAME:EDT
DTSTART:20260308T070000
END:DAYLIGHT
BEGIN:STANDARD
TZOFFSETFROM:-0400
TZOFFSETTO:-0500
TZNAME:EST
DTSTART:20261101T060000
END:STANDARD
END:VTIMEZONE
BEGIN:VEVENT
DTSTART;TZID=America/New_York:20250426T193000
DTEND;TZID=America/New_York:20250426T193000
DTSTAMP:20260425T234753
CREATED:20240226T135454Z
LAST-MODIFIED:20250408T102904Z
UID:12309-1745695800-1745695800@readingsymphony.org
SUMMARY:Let’s Dance!
DESCRIPTION:Classics 5 – Let’s Dance!\nAndrew Constantine\, Conductor\nMark Kosower\, Cello\nFeaturing Joffrey Ballet Studio Company \nProgramming\nGRIEG Peer Gynt Suite 1\nBOURNONVILLE Napoli\nTCHAIKOVSKY Pezzo Capriccioso\nTCHAIKOVSKY Variations on a Rococo Theme \nPrepare to be amazed as the Reading Symphony Orchestra joins forces with the Joffrey Ballet Studio Company from Chicago! This special collaboration will blend the elegance of ballet with the power of live symphonic music\, creating a spellbinding performance full of beauty\, grace\, and energy. Audiences can look forward to an evening of captivating artistry and unexpected delights — a true feast for the senses! \nSoloist Spotlight: Mark Kosower with the Reading Symphony Orchestra \n \nGet ready for an unforgettable evening featuring internationally acclaimed cellist Mark Kosower\, a modern player with a distinctive style and “signature sound.” Kosower embodies the complete musician\, performing as a concerto soloist with major symphonies\, in solo recitals\, and as a sought-after chamber musician. \nHe is the Principal Cello of The Cleveland Orchestra and renowned recording artist with a diverse repertoire spanning from Tchaikovsky and Dvořák to Ginastera and Gulda. Kosower is also the founder of Bach for Humanity\, which uses Bach’s music to unite communities. \nThe Reading Symphony Orchestra is excited to welcome Mark Kosower to the stage. Don’t miss this opportunity to hear one of the most influential cellists of our time \nLearn more about Mark Kosower here. \n  \n“Experience the Innovation and Excellence of The Joffrey Ballet” \nThe Reading Symphony Orchestra is also thrilled to host the Grainger Academy of The Joffrey Ballet\, the only school and training \n \n  \nprogram owned\, operated\, and endorsed by The Joffrey Ballet. \nFounded in 2010\, the Grainger Academy of The Joffrey Ballet\, provides students of all ages\, levels\, and backgrounds with a world-class education\, built on a foundation of classical ballet. With the talents cultivated at the Grainger Academy\, students can pursue careers as professional dancers at companies throughout the world\, higher education opportunities in dance\, or success in other fields. \nThe Joffrey Ballet is a premier American dance company renowned for its innovative blend of classical ballet and modern dance. Founded in 1956 by Robert Joffrey and Gerald Arpino\, the company has consistently pushed artistic boundaries\, presenting groundbreaking works that have redefined the ballet landscape. With a commitment to diversity and inclusivity\, The Joffrey Ballet reflects the rich tapestry of American culture through its performance. Now based in Chicago\, the company continues to captivate audiences worldwide with its dynamic repertoire and exceptional artistry. \nDon’t miss this opportunity to witness students from one of the most influential ballet companies of our time! \nLearn more about the Grainger Academy and The Joffrey Ballet here.
URL:https://readingsymphony.org/event/lets-dance/
LOCATION:Santander Performing Arts Center\, 136 N 6th Street\, Reading\, PA\, 19602\, United States
CATEGORIES:Main Events
ATTACH;FMTTYPE=image/jpeg:https://readingsymphony.org/wp-content/uploads/2024/02/classics6.jpg
END:VEVENT
END:VCALENDAR