BEGIN:VCALENDAR
VERSION:2.0
PRODID:-//Reading Symphony Orchestra - ECPv6.15.20//NONSGML v1.0//EN
CALSCALE:GREGORIAN
METHOD:PUBLISH
X-ORIGINAL-URL:https://readingsymphony.org
X-WR-CALDESC:Events for Reading Symphony Orchestra
REFRESH-INTERVAL;VALUE=DURATION:PT1H
X-Robots-Tag:noindex
X-PUBLISHED-TTL:PT1H
BEGIN:VTIMEZONE
TZID:America/New_York
BEGIN:DAYLIGHT
TZOFFSETFROM:-0500
TZOFFSETTO:-0400
TZNAME:EDT
DTSTART:20240310T070000
END:DAYLIGHT
BEGIN:STANDARD
TZOFFSETFROM:-0400
TZOFFSETTO:-0500
TZNAME:EST
DTSTART:20241103T060000
END:STANDARD
BEGIN:DAYLIGHT
TZOFFSETFROM:-0500
TZOFFSETTO:-0400
TZNAME:EDT
DTSTART:20250309T070000
END:DAYLIGHT
BEGIN:STANDARD
TZOFFSETFROM:-0400
TZOFFSETTO:-0500
TZNAME:EST
DTSTART:20251102T060000
END:STANDARD
BEGIN:DAYLIGHT
TZOFFSETFROM:-0500
TZOFFSETTO:-0400
TZNAME:EDT
DTSTART:20260308T070000
END:DAYLIGHT
BEGIN:STANDARD
TZOFFSETFROM:-0400
TZOFFSETTO:-0500
TZNAME:EST
DTSTART:20261101T060000
END:STANDARD
END:VTIMEZONE
BEGIN:VEVENT
DTSTART;TZID=America/New_York:20250517T193000
DTEND;TZID=America/New_York:20250517T193000
DTSTAMP:20260425T224316
CREATED:20240226T135108Z
LAST-MODIFIED:20250331T123337Z
UID:12306-1747510200-1747510200@readingsymphony.org
SUMMARY:Sibelius 1
DESCRIPTION:Classics 6\nAndrew Constantine\, Conductor\nLucille Chung\, Piano\nTchaikovsky – Capriccio Italien\nClara Schumann – Piano Concerto\nSibelius – Symphony No. 1 \nExperience a night of passion\, brilliance\, and Nordic drama with the Reading Symphony Orchestra. Under the baton of Andrew Constantine\, pianist Lucille Chung brings Clara Schumann’s dazzling Piano Concerto to life\, a work of youthful fire and lyricism. Tchaikovsky’s vibrant Capriccio Italien sets the stage with Italian-inspired exuberance\, while Sibelius’ sweeping Symphony No. 1 closes the program with its gripping intensity and soaring melodies. \n  \nLucille Chung\, Piano \nBorn in Montréal\, Canadian pianist Lucille Chung has been acclaimed for her “stylish and refined performances” by Gramophone magazine\, “combining vigor and suppleness with natural eloquence and elegance” (Le Soir). \nShe made her debut at the age of ten with the Montréal Symphony Orchestra and Charles Dutoit subsequently invited her to be a featured soloist during the MSO Asian Tour in 1989. Since then\, she has performed an extensive concerto repertoire spanning from Bach to Adams with over 70  leading orchestras such as the Philadelphia Orchestra\, Moscow Virtuosi\, BBC National Orchestra of Wales\, Flemish Radio Orchestra\, Orquesta Sinfónica de Tenerífe\, Orquesta Sinfónica de Bilbao\, Staatskapelle Weimar\, Philharmonie de Lorraine\, Orchestra Sinfonica Siciliana\, Belgrade Philharmonic\, Seoul Philharmonic\, KBS Orchestra\, St. Louis Symphony\, New Jersey Symphony\, Dallas Symphony\, UNAM Philharmonic (Mexico)\, Orquesta Filarmónica de Buenos Aires\, MAV Symphony (Budapest)\, Lithuanian National Symphony\, Israel Chamber Orchestra as well as all the major Canadian orchestras\, including Montreal\, Toronto\, Vancouver\, National Arts Centre (Ottawa)\, Calgary\, Winnipeg and Métropolitain\, among others. She has appeared with conductors such as Krzysztof Penderecki\, Vladimir Spivakov\, Vasily Petrenko\, Yannick Nézet-Séguin\, Stéphane Denève\, Peter Oundjian\, Gerd Albrecht and Charles Dutoit. \n 
URL:https://readingsymphony.org/event/sibelius-1/
LOCATION:Santander Performing Arts Center\, 136 N 6th Street\, Reading\, PA\, 19602\, United States
CATEGORIES:Main Events
ATTACH;FMTTYPE=image/jpeg:https://readingsymphony.org/wp-content/uploads/2024/02/classics5.jpg
END:VEVENT
END:VCALENDAR