BEGIN:VCALENDAR
VERSION:2.0
PRODID:-//Reading Symphony Orchestra - ECPv6.15.20//NONSGML v1.0//EN
CALSCALE:GREGORIAN
METHOD:PUBLISH
X-ORIGINAL-URL:https://readingsymphony.org
X-WR-CALDESC:Events for Reading Symphony Orchestra
REFRESH-INTERVAL;VALUE=DURATION:PT1H
X-Robots-Tag:noindex
X-PUBLISHED-TTL:PT1H
BEGIN:VTIMEZONE
TZID:America/New_York
BEGIN:DAYLIGHT
TZOFFSETFROM:-0500
TZOFFSETTO:-0400
TZNAME:EDT
DTSTART:20240310T070000
END:DAYLIGHT
BEGIN:STANDARD
TZOFFSETFROM:-0400
TZOFFSETTO:-0500
TZNAME:EST
DTSTART:20241103T060000
END:STANDARD
BEGIN:DAYLIGHT
TZOFFSETFROM:-0500
TZOFFSETTO:-0400
TZNAME:EDT
DTSTART:20250309T070000
END:DAYLIGHT
BEGIN:STANDARD
TZOFFSETFROM:-0400
TZOFFSETTO:-0500
TZNAME:EST
DTSTART:20251102T060000
END:STANDARD
BEGIN:DAYLIGHT
TZOFFSETFROM:-0500
TZOFFSETTO:-0400
TZNAME:EDT
DTSTART:20260308T070000
END:DAYLIGHT
BEGIN:STANDARD
TZOFFSETFROM:-0400
TZOFFSETTO:-0500
TZNAME:EST
DTSTART:20261101T060000
END:STANDARD
END:VTIMEZONE
BEGIN:VEVENT
DTSTART;TZID=America/New_York:20250927T193000
DTEND;TZID=America/New_York:20250927T193000
DTSTAMP:20260425T164249
CREATED:20250303T103209Z
LAST-MODIFIED:20251028T215038Z
UID:12517-1759001400-1759001400@readingsymphony.org
SUMMARY:Beethoven Symphony No. 9
DESCRIPTION:Santander Performing Arts Center\n136 N 6th St\, Reading\, PA 19601\nSaturday\, September 27\, 2025\n7:30 p.m. \nBeethoven’s Ninth: A Triumph of the Human Spirit\nPrepare for an unforgettable night as Beethoven’s monumental Symphony No. 9 explodes to life on stage. From its stormy opening to the earth-shaking final chorus of “Ode to Joy\,” this is more than a concert — it’s a celebration of unity\, resilience\, and the boundless power of the human spirit. Featuring a full orchestra\, choir\, and world-class soloists\, this performance will leave you breathless and inspired. One of history’s greatest musical achievements awaits. \n  \nCELEBRATING 150 YEARS\nReading Choral Society\nFounded in 1875\, the Reading Choral Society is committed to bringing performances characterized by vocal excellence and musical distinction to the Reading community. 150 years later\, under its current music director\, Dr. Graham Bier\, the RCS continues to honor that vision. \nWe are honored to be joined in partnership by the Reading Choral Society for this historic performance of Beethoven’s final work. We celebrate the shared commitment to humanity\, community\, and the transformative power of music\, and are excited to celebrate the 150th season of the RCS in Berks County. \nClick or Scan 2025-2026 BRAVO!\n \n  \n\nCheers Bistro at the DoubleTree and FREE Parking\n \nEnjoy modern comfort food in a relaxed urban setting\, along with validated parking\, at Cheers Bistro at the DoubleTree. Whether you’re in the mood for a quick bite or a leisurely meal\, every dining experience will be one to remember!  \nBook Reservations  |  Visit Website  |  Call (484) 577-8633 \n  \n\nThis concert and soloists are presented with generous support from \n \n 
URL:https://readingsymphony.org/event/beethoven-9/
LOCATION:Santander Performing Arts Center\, 136 N 6th Street\, Reading\, PA\, 19602\, United States
CATEGORIES:Main Events
ATTACH;FMTTYPE=image/jpeg:https://readingsymphony.org/wp-content/uploads/2025/03/RSOClassics1Andrew1_1080x1080.jpg
END:VEVENT
END:VCALENDAR