BEGIN:VCALENDAR
VERSION:2.0
PRODID:-//Reading Symphony Orchestra - ECPv6.15.20//NONSGML v1.0//EN
CALSCALE:GREGORIAN
METHOD:PUBLISH
X-WR-CALNAME:Reading Symphony Orchestra
X-ORIGINAL-URL:https://readingsymphony.org
X-WR-CALDESC:Events for Reading Symphony Orchestra
REFRESH-INTERVAL;VALUE=DURATION:PT1H
X-Robots-Tag:noindex
X-PUBLISHED-TTL:PT1H
BEGIN:VTIMEZONE
TZID:America/New_York
BEGIN:DAYLIGHT
TZOFFSETFROM:-0500
TZOFFSETTO:-0400
TZNAME:EDT
DTSTART:20240310T070000
END:DAYLIGHT
BEGIN:STANDARD
TZOFFSETFROM:-0400
TZOFFSETTO:-0500
TZNAME:EST
DTSTART:20241103T060000
END:STANDARD
BEGIN:DAYLIGHT
TZOFFSETFROM:-0500
TZOFFSETTO:-0400
TZNAME:EDT
DTSTART:20250309T070000
END:DAYLIGHT
BEGIN:STANDARD
TZOFFSETFROM:-0400
TZOFFSETTO:-0500
TZNAME:EST
DTSTART:20251102T060000
END:STANDARD
BEGIN:DAYLIGHT
TZOFFSETFROM:-0500
TZOFFSETTO:-0400
TZNAME:EDT
DTSTART:20260308T070000
END:DAYLIGHT
BEGIN:STANDARD
TZOFFSETFROM:-0400
TZOFFSETTO:-0500
TZNAME:EST
DTSTART:20261101T060000
END:STANDARD
END:VTIMEZONE
BEGIN:VEVENT
DTSTART;TZID=America/New_York:20251115T193000
DTEND;TZID=America/New_York:20251115T193000
DTSTAMP:20260425T135810
CREATED:20250303T103209Z
LAST-MODIFIED:20251106T173726Z
UID:12520-1763235000-1763235000@readingsymphony.org
SUMMARY:Mozart Eine kleine Nachtmusik
DESCRIPTION:Santander Performing Arts Center\n136 N 6th St\, Reading\, PA 19601\nSaturday\, November 15\, 2025\n7:30 p.m. \nEine kleine Nachtmusik & Elgar Cello Concerto\n \nAn evening of elegance and passion awaits as Mozart’s beloved Eine kleine Nachtmusik sets the stage for Elgar’s deeply expressive Cello Concerto\, performed by Amy Butler. \nImmerse yourself in the warmth and lyricism of Brahms’ sweeping Symphony No. 2\, a radiant masterpiece of warmth and grandeur that balances pastoral beauty with symphonic power. Often called his “sunny symphony\,” this work unfolds with rich melodies\, soaring orchestration\, and a sense of calm optimism\, culminating in a jubilant finale. Experience the depth and elegance of Brahms at his most open-hearted. \nWith a special guest appearance by the RSO’s very own Reading Symphony Youth Orchestra. \n  \nRead Program Notes Here \nClick or Scan 2025-2026 BRAVO!\n \n  \n\nCheers Bistro at the DoubleTree and FREE Parking\n \nEnjoy modern comfort food in a relaxed urban setting\, along with validated parking\, at Cheers Bistro at the DoubleTree. Whether you’re in the mood for a quick bite or a leisurely meal\, every dining experience will be one to remember!  \nBook Reservations  |  Visit Website  |  Call (484) 577-8633 \n  \n\nListen
URL:https://readingsymphony.org/event/eine-kleine-nachtmusik-and-more/
LOCATION:Santander Performing Arts Center\, 136 N 6th Street\, Reading\, PA\, 19602\, United States
CATEGORIES:Main Events
ATTACH;FMTTYPE=image/jpeg:https://readingsymphony.org/wp-content/uploads/2025/03/RSOClassics2AmyButler_1080x1080.jpg
END:VEVENT
END:VCALENDAR