BEGIN:VCALENDAR
VERSION:2.0
PRODID:-//Reading Symphony Orchestra - ECPv6.15.20//NONSGML v1.0//EN
CALSCALE:GREGORIAN
METHOD:PUBLISH
X-WR-CALNAME:Reading Symphony Orchestra
X-ORIGINAL-URL:https://readingsymphony.org
X-WR-CALDESC:Events for Reading Symphony Orchestra
REFRESH-INTERVAL;VALUE=DURATION:PT1H
X-Robots-Tag:noindex
X-PUBLISHED-TTL:PT1H
BEGIN:VTIMEZONE
TZID:America/New_York
BEGIN:DAYLIGHT
TZOFFSETFROM:-0500
TZOFFSETTO:-0400
TZNAME:EDT
DTSTART:20250309T070000
END:DAYLIGHT
BEGIN:STANDARD
TZOFFSETFROM:-0400
TZOFFSETTO:-0500
TZNAME:EST
DTSTART:20251102T060000
END:STANDARD
BEGIN:DAYLIGHT
TZOFFSETFROM:-0500
TZOFFSETTO:-0400
TZNAME:EDT
DTSTART:20260308T070000
END:DAYLIGHT
BEGIN:STANDARD
TZOFFSETFROM:-0400
TZOFFSETTO:-0500
TZNAME:EST
DTSTART:20261101T060000
END:STANDARD
BEGIN:DAYLIGHT
TZOFFSETFROM:-0500
TZOFFSETTO:-0400
TZNAME:EDT
DTSTART:20270314T070000
END:DAYLIGHT
BEGIN:STANDARD
TZOFFSETFROM:-0400
TZOFFSETTO:-0500
TZNAME:EST
DTSTART:20271107T060000
END:STANDARD
END:VTIMEZONE
BEGIN:VEVENT
DTSTART;TZID=America/New_York:20260214T193000
DTEND;TZID=America/New_York:20260214T193000
DTSTAMP:20260425T095954
CREATED:20250303T103209Z
LAST-MODIFIED:20260123T034632Z
UID:12523-1771097400-1771097400@readingsymphony.org
SUMMARY:Valentine’s with Romeo & Juliet
DESCRIPTION:Santander Performing Arts Center\n136 N 6th St\, Reading\, PA 19601\nSaturday\, February 14\, 2026\n7:30 p.m. \nCelebrate love and longing with the romantic program on Valentine’s Day\nStep into a world of swelling emotion and timeless storytelling with an evening of operatic and symphonic masterpieces. Featuring dramatic selections from Puccini’s La Bohème\, Turandot\, Gianni Schicchi\, Le Villi\, and Edgar\, alongside the lush romanticism of Tchaikovsky’s Sleeping Beauty and Eugene Onegin\, this program culminates in the stirring intensity of Romeo & Juliet. From tender arias to orchestral grandeur\, this concert brings together the heart and soul of two musical giants in a celebration of love\, loss\, and passion. \n  \nIn collaboration with Berks Opera Company\n  \n \n\n\n\n\nSince its inception in 2007\, Berks Opera has grown into a regional company committed to showing the current cultural relevance of the operatic art through musical education and performances. Partnering with a broad range of community organizations\, and creating innovative experiences for students\, professionals and the community in traditional and non-traditional venues\, it increases the diversity of available cultural experiences in the community. \nIt has presented main stage and concert performances involving both seasoned artists with international credits and aspiring young artists on their way up. Berks Opera’s programs educating young artists and opera-goers of all ages—from all segments of the community—reflect its determination to draw new opera fans into the fold\, and to be relevant to a Berks County community that is younger and more diverse than ever before. \n\n\n\n\n\n\n\n\n  \n\n\n\n\nClick or Scan 2025-2026 BRAVO!\n \n  \n\nValentine’s at the DoubleTree\nCelebrate Valentine’s Day with a romantic weekend getaway at the DoubleTree for two and an intimate evening with the Reading Symphony Orchestra. This special offer includes two tickets to the RSO’s Valentine’s Day Concert\, one overnight stay with breakfast for two at the DoubleTree Reading\, along with complimentary parking and shuttle service to and from the performance. \nUse code: RSV for a special room rate! Book through the booking link\, not the code. \nClick here to make your reservation \n  \n\nListen
URL:https://readingsymphony.org/event/valentines-with-romeo-juliet/
LOCATION:Santander Performing Arts Center\, 136 N 6th Street\, Reading\, PA\, 19602\, United States
CATEGORIES:Main Events
ATTACH;FMTTYPE=image/jpeg:https://readingsymphony.org/wp-content/uploads/2025/03/Valentines-1.jpg
END:VEVENT
BEGIN:VEVENT
DTSTART;TZID=America/New_York:20260215T170000
DTEND;TZID=America/New_York:20260215T210000
DTSTAMP:20260425T095954
CREATED:20251106T040202Z
LAST-MODIFIED:20251106T042024Z
UID:13476-1771174800-1771189200@readingsymphony.org
SUMMARY:Valentine's Celebration 2026
DESCRIPTION:
URL:https://readingsymphony.org/event/valentines-celebration-2026/
LOCATION:Reading Country Club\, 5311 Perkiomen Ave\, Reading\, PA\, 19606\, United States
CATEGORIES:Main Events
ATTACH;FMTTYPE=image/jpeg:https://readingsymphony.org/wp-content/uploads/2025/11/IMG_0012-scaled.jpg
END:VEVENT
END:VCALENDAR